{"text_format":"1","workbook":"xlsx","n_sheets":2,"sheets":["データ入力","プレビュー&写真挿入"],"not_rendered":{"charts":0,"images":2,"macros":1,"external_links":0,"defined_names":1,"comments":0,"pivot_tables":0},"unopened":[],"bounds":{"document_bytes":16777216,"sheet_cells":100000,"rows_first":2000,"rows_last":500,"rows_between":2000,"halvings":0,"cell_chars":16384,"cell_head_chars":4096},"cells_cut":0,"cells_raw":0,"read":"whole","date_system":"1900"}

{"sheet":"データ入力","index":0,"n_rows":77,"n_cols":61,"rows_kept":77,"cut":false,"hidden":false,"merged":[]}
[]
[null,null,null,null,null,"❶↓こちらを回答してください↓"]
[]
["質問番号","質問区分","質問内容","備　　考","入力方法","回　　答","check",null,"入力方法","必須","選択肢1","選択肢2","選択肢3","選択肢2","選択肢5","選択肢6","選択肢7","選択肢8","選択肢9","選択肢10","選択肢11","選択肢12","選択肢13","選択肢14","選択肢15","選択肢16","選択肢17","選択肢18","選択肢19","選択肢20","選択肢21","選択肢22","選択肢23","選択肢24","選択肢25","選択肢26","選択肢27","選択肢28","選択肢29","選択肢30","選択肢31","選択肢32","選択肢33","選択肢34","選択肢35","選択肢36","選択肢37","選択肢38","選択肢39","選択肢40","選択肢41","選択肢42","選択肢43","選択肢44","選択肢45","選択肢46","選択肢47"]
[{"$f":"ROW()-4","v":1},"登録日","記入日は本日の日付が自動で入ります",null,{"$f":"I5","v":"自動で表示します"},{"$f":"TODAY()","v":"2023-08-02"},{"$f":"IF(F5=\"\",\"未入力\",\"入力済\")","v":"入力済"},{"$f":"IF(教員入力T[[#This Row],[入力方法]]=\"選択\",\"←選択ボタン\",\"\")","v":""},"自動で表示します","必須"]
[{"$f":"ROW()-4","v":2},"登録区分","入力区分をお選びください。","初めての方：新規登録\n２回目以降：再登録",{"$f":"I6","v":"選択"},null,"未入力",{"$f":"IF(教員入力T[[#This Row],[入力方法]]=\"選択\",\"←選択ボタン\",\"\")","v":"←選択ボタン"},"選択","必須","新規登録","再登録"]
[3,"基本情報","勤務の開始希望時期をお選びください。",null,"選択",null,"未入力",{"$f":"IF(教員入力T[[#This Row],[入力方法]]=\"選択\",\"←選択ボタン\",\"\")","v":"←選択ボタン"},"選択","必須","今年度途中～","2024年4月～","2025年4月～"]
[4,"基本情報","勤務先の希望をお選びください。",null,"選択",null,"未入力",{"$f":"IF(教員入力T[[#This Row],[入力方法]]=\"選択\",\"←選択ボタン\",\"\")","v":"←選択ボタン"},"選択","必須","須磨学園","須磨学園夙川","どちらでも可"]
[5,"基本情報","希望職種をお選びください。",null,"選択",null,"未入力",{"$f":"IF(教員入力T[[#This Row],[入力方法]]=\"選択\",\"←選択ボタン\",\"\")","v":"←選択ボタン"},"選択","必須","常勤講師","非常勤講師","どちらでも可"]
[6,"基本情報","姓名をご入力ください。","姓名の間は半角スペース　\n例：須磨 一郎","入力",null,"未入力",{"$f":"IF(教員入力T[[#This Row],[入力方法]]=\"選択\",\"←選択ボタン\",\"\")","v":""},"入力","必須"]
[7,"基本情報","姓名のふりがなをご入力ください。\n（全角ひらがな）","姓名の間は半角スペース　\n例：すま いちろう","入力",null,"未入力",{"$f":"IF(教員入力T[[#This Row],[入力方法]]=\"選択\",\"←選択ボタン\",\"\")","v":""},"入力","必須"]
[8,"基本情報","生年月日をご入力ください。\n（半角8数字と半角/)","例：1990/01/01","日付入力",null,"未入力",{"$f":"IF(教員入力T[[#This Row],[入力方法]]=\"選択\",\"←選択ボタン\",\"\")","v":""},"日付入力","必須"]
[9,"基本情報","性別をご入力ください。\n（未回答を選択可）",null,"選択",null,"未入力",{"$f":"IF(教員入力T[[#This Row],[入力方法]]=\"選択\",\"←選択ボタン\",\"\")","v":"←選択ボタン"},"選択","必須","男性","女性","未回答"]
[10,"基本情報","お住いの郵便番号をご入力ください。\n（半角7桁）","例：0000000(ハイフンは自動で出ます）","入力",null,"未入力",{"$f":"IF(教員入力T[[#This Row],[入力方法]]=\"選択\",\"←選択ボタン\",\"\")","v":""},"入力","必須"]
[11,"基本情報","ご住所を都道府県からご入力ください。","例：兵庫県神戸市須磨区板宿町3-15-14","入力",null,"未入力",{"$f":"IF(教員入力T[[#This Row],[入力方法]]=\"選択\",\"←選択ボタン\",\"\")","v":""},"入力","必須"]
[12,"基本情報","最も連絡のつきやすい電話番号をご入力くさい。\n（半角数字 　ハイフンなし）","08000000000","入力",null,"未入力",{"$f":"IF(教員入力T[[#This Row],[入力方法]]=\"選択\",\"←選択ボタン\",\"\")","v":""},"入力","必須"]
[13,"基本情報","mailアドレスをご入力ください。",null,"入力",null,"未入力",{"$f":"IF(教員入力T[[#This Row],[入力方法]]=\"選択\",\"←選択ボタン\",\"\")","v":""},"入力","必須"]
[14,"基本情報","配偶者の有無をお選びください。",null,"選択",null,"未入力",{"$f":"IF(教員入力T[[#This Row],[入力方法]]=\"選択\",\"←選択ボタン\",\"\")","v":"←選択ボタン"},"選択","必須","有","無"]
[15,"基本情報","配偶者扶養義務をご入力ください。",null,"選択",null,"未入力",{"$f":"IF(教員入力T[[#This Row],[入力方法]]=\"選択\",\"←選択ボタン\",\"\")","v":"←選択ボタン"},"選択","必須","有","無"]
[16,"基本情報","配偶者を除く扶養家族の人数をご入力ください。","例) 0人","入力",null,"未入力",{"$f":"IF(教員入力T[[#This Row],[入力方法]]=\"選択\",\"←選択ボタン\",\"\")","v":""},"入力","必須","0人","1人","2人","3人","4人","5人","6人","7人","8人","9人","10人","11人","12人","13人","14人","15人","16人","17人","18人","19人","20人"]
[17,"学歴1","出身高等学校名をご入力ください。","例) 須磨学園高等学校","入力",null,"未入力",{"$f":"IF(教員入力T[[#This Row],[入力方法]]=\"選択\",\"←選択ボタン\",\"\")","v":""},"入力","必須"]
[18,"学歴1","出身高等学校の在籍期間を例に倣ってご入力ください。","例) 0000年0月～0000年0月\n　　（または現在）","入力",null,"未入力",{"$f":"IF(教員入力T[[#This Row],[入力方法]]=\"選択\",\"←選択ボタン\",\"\")","v":""},"入力","必須","1975年","1976年","1977年","1978年","1979年","1980年","1981年","1982年","1983年","1984年","1985年","1986年","1987年","1988年","1989年","1990年","1991年","1992年","1993年","1994年","1995年","1996年","1997年","1998年","1999年","2000年","2001年","2002年","2003年","2004年","2005年","2006年","2007年","2008年","2009年","2010年","2011年","2012年","2013年","2014年","2015年","2016年","2017年","2018年","2019年","2020年","2021年","2022年","2023年","2024年","2025年"]
[19,"学歴2","出身大学の学部学科などまで全てご入力ください。","例) 須磨大学教育学部英語教育学科","入力",null,"未入力",{"$f":"IF(教員入力T[[#This Row],[入力方法]]=\"選択\",\"←選択ボタン\",\"\")","v":""},"入力","必須","1月","2月","3月","4月","5月","6月","7月","8月","9月","10月","11月","12月"]
[20,"学歴2","出身大学の在籍期間を例に倣ってご入力ください。","例) 0000年0月～0000年0月\n　（または現在）","入力",null,"未入力",{"$f":"IF(教員入力T[[#This Row],[入力方法]]=\"選択\",\"←選択ボタン\",\"\")","v":""},"入力","必須"]
[21,"学歴3","出身大学院の学部学科などまで全てご入力ください。","例) 須磨大学大学院須磨学部","入力",null,"未入力",{"$f":"IF(教員入力T[[#This Row],[入力方法]]=\"選択\",\"←選択ボタン\",\"\")","v":""},"入力"]
[22,"学歴3","出身大学院の在籍期間を例に倣ってご入力ください。","例) 0000年0月～0000年0月\n　（または現在）","入力",null,"未入力",{"$f":"IF(教員入力T[[#This Row],[入力方法]]=\"選択\",\"←選択ボタン\",\"\")","v":""},"入力"]
[23,"学歴4","その他追加の学歴がある方は名称をお書きください。","例) 須磨大学大学院博士課程","入力",null,"未入力",{"$f":"IF(教員入力T[[#This Row],[入力方法]]=\"選択\",\"←選択ボタン\",\"\")","v":""},"入力"]
[24,"学歴4","追加学歴の在籍期間を例に倣ってお書きください","例：0000年0月～0000年0月\n　（または現在）","入力",null,"未入力",{"$f":"IF(教員入力T[[#This Row],[入力方法]]=\"選択\",\"←選択ボタン\",\"\")","v":""},"入力"]
[25,"学歴5","その他追加の学歴がある方は名称をお書きください。","例：須磨大学通信課程","入力",null,"未入力",{"$f":"IF(教員入力T[[#This Row],[入力方法]]=\"選択\",\"←選択ボタン\",\"\")","v":""},"入力"]
[26,"学歴5","追加学歴の在籍期間を例に倣ってお書きください","例：0000年0月～0000年0月\n　（または現在）","入力",null,"未入力",{"$f":"IF(教員入力T[[#This Row],[入力方法]]=\"選択\",\"←選択ボタン\",\"\")","v":""},"入力"]
[27,"職歴1","1つ目の職歴の企業名（学校名）、職名をお書きください","例：須磨学園高校　常勤講師","入力",null,"未入力",{"$f":"IF(教員入力T[[#This Row],[入力方法]]=\"選択\",\"←選択ボタン\",\"\")","v":""},"入力"]
[28,"職歴1","1つ目の職歴の在任期間を例に倣ってお書きください","例：0000年0月～0000年0月\n　（または現在）","入力",null,"未入力",{"$f":"IF(教員入力T[[#This Row],[入力方法]]=\"選択\",\"←選択ボタン\",\"\")","v":""},"入力"]
[29,"職歴2","2つ目の職歴の企業名（学校名）、職名をお書きください","例：須磨学園高校　常勤講師","入力",null,"未入力",{"$f":"IF(教員入力T[[#This Row],[入力方法]]=\"選択\",\"←選択ボタン\",\"\")","v":""},"入力"]
[30,"職歴2","2つ目の職歴の在任期間を例に倣ってお書きください","例：0000年0月～0000年0月\n　（または現在）","入力",null,"未入力",{"$f":"IF(教員入力T[[#This Row],[入力方法]]=\"選択\",\"←選択ボタン\",\"\")","v":""},"入力"]
[31,"職歴3","3つ目の職歴の企業名（学校名）、職名をお書きください","例：須磨学園高校　常勤講師","入力",null,"未入力",{"$f":"IF(教員入力T[[#This Row],[入力方法]]=\"選択\",\"←選択ボタン\",\"\")","v":""},"入力"]
[32,"職歴3","3つ目の職歴の在任期間を例に倣ってお書きください","例：0000年0月～0000年0月\n　（または現在）","入力",null,"未入力",{"$f":"IF(教員入力T[[#This Row],[入力方法]]=\"選択\",\"←選択ボタン\",\"\")","v":""},"入力"]
[33,"職歴4","4つ目の職歴の企業名（学校名）、職名を書いてください。","例：須磨学園高校　常勤講師","入力",null,{"$f":"IF(F37=\"\",\"未入力\",\"入力済\")","v":"未入力"},{"$f":"IF(教員入力T[[#This Row],[入力方法]]=\"選択\",\"←選択ボタン\",\"\")","v":""},"入力",""]
[34,"職歴4","4つ目の職歴の在任期間を例に倣って書いてください。","例：0000年0月～0000年0月\n　（または現在）","入力",null,"未入力",{"$f":"IF(教員入力T[[#This Row],[入力方法]]=\"選択\",\"←選択ボタン\",\"\")","v":""},"入力",""]
[35,"職歴5","5つ目の職歴の企業名（学校名）、職名を書いてください。","例：須磨学園高校　常勤講師","入力",null,"未入力",{"$f":"IF(教員入力T[[#This Row],[入力方法]]=\"選択\",\"←選択ボタン\",\"\")","v":""},"入力"]
[36,"職歴5","5つ目の職歴の在任期間を例に倣って書いてください。","例：0000年0月～0000年0月\n　（または現在）","入力",null,"未入力",{"$f":"IF(教員入力T[[#This Row],[入力方法]]=\"選択\",\"←選択ボタン\",\"\")","v":""},"入力"]
[37,"職歴6","6つ目の職歴の企業名（学校名）、職名を書いてください。","例：須磨学園高校　常勤講師","入力",null,"未入力",{"$f":"IF(教員入力T[[#This Row],[入力方法]]=\"選択\",\"←選択ボタン\",\"\")","v":""},"入力"]
[38,"職歴6","6つ目の職歴の在任期間を例に倣って書いてください。","例：0000年0月～0000年0月\n　（または現在）","入力",null,"未入力",{"$f":"IF(教員入力T[[#This Row],[入力方法]]=\"選択\",\"←選択ボタン\",\"\")","v":""},"入力"]
[39,"職歴7","7つ目の職歴の企業名（学校名）、職名を書いてください。","例：須磨学園高校　常勤講師","入力",null,"未入力",{"$f":"IF(教員入力T[[#This Row],[入力方法]]=\"選択\",\"←選択ボタン\",\"\")","v":""},"入力"]
[40,"職歴7","7つ目の職歴の在任期間を例に倣って書いてください。","例：0000年0月～0000年0月\n　（または現在）","入力",null,"未入力",{"$f":"IF(教員入力T[[#This Row],[入力方法]]=\"選択\",\"←選択ボタン\",\"\")","v":""},"入力"]
[41,"職歴8","8つ目の職歴の企業名（学校名）、職名を書いてください。","例：須磨学園高校　常勤講師","入力",null,"未入力",{"$f":"IF(教員入力T[[#This Row],[入力方法]]=\"選択\",\"←選択ボタン\",\"\")","v":""},"入力"]
[42,"職歴8","8つ目の職歴の在任期間を例に倣って書いてください。","例：0000年0月～0000年0月\n　（または現在）","入力",null,"未入力",{"$f":"IF(教員入力T[[#This Row],[入力方法]]=\"選択\",\"←選択ボタン\",\"\")","v":""},"入力"]
[43,"職歴9","9つ目の職歴の企業名（学校名）、職名を書いてください。","例：須磨学園高校　常勤講師","入力",null,"未入力",{"$f":"IF(教員入力T[[#This Row],[入力方法]]=\"選択\",\"←選択ボタン\",\"\")","v":""},"入力"]
[44,"職歴9","9つ目の職歴の在任期間を例に倣って書いてください。","例：0000年0月～0000年0月\n　（または現在）","入力",null,"未入力",{"$f":"IF(教員入力T[[#This Row],[入力方法]]=\"選択\",\"←選択ボタン\",\"\")","v":""},"入力"]
[45,"職歴10","10つ目の職歴の企業名（学校名）、職名を書いてください。","例：須磨学園高校　常勤講師","入力",null,"未入力",{"$f":"IF(教員入力T[[#This Row],[入力方法]]=\"選択\",\"←選択ボタン\",\"\")","v":""},"入力"]
[46,"職歴10","10つ目の職歴の在任期間を例に倣って書いてください。","例：0000年0月～0000年0月\n　（または現在）","入力",null,"未入力",{"$f":"IF(教員入力T[[#This Row],[入力方法]]=\"選択\",\"←選択ボタン\",\"\")","v":""},"入力"]
[47,"教員免許1","取得している（または見込み）の教員免許状の校種と区分を選択してください。","見込み含む","選択",null,"未入力",{"$f":"IF(教員入力T[[#This Row],[入力方法]]=\"選択\",\"←選択ボタン\",\"\")","v":"←選択ボタン"},"選択","必須","高等学校教諭一種免許状","高等学校教諭専修免許状","中学校教諭一種免許状","中学校教諭二種免許状","中学校教諭専修免許状"]
[48,"教員免許1","その教員免許状の教科を選んでください。",null,"選択",null,"未入力",{"$f":"IF(教員入力T[[#This Row],[入力方法]]=\"選択\",\"←選択ボタン\",\"\")","v":"←選択ボタン"},"選択","必須","外国語（英語）","国語","理科","数学","社会","地理歴史","公民","音楽","美術","保健体育","技術","家庭","情報","書道"]
[49,"教員免許1","その教員免許状の取得（または見込）年月を書いてください。","例：2024年3月取得見込み","入力",null,"未入力",{"$f":"IF(教員入力T[[#This Row],[入力方法]]=\"選択\",\"←選択ボタン\",\"\")","v":""},"入力","必須"]
[50,"教員免許2","2つ目の教員免許状の校種と区分を選択してください。","見込み含む","選択",null,"未入力",{"$f":"IF(教員入力T[[#This Row],[入力方法]]=\"選択\",\"←選択ボタン\",\"\")","v":"←選択ボタン"},"選択",null,"高等学校教諭一種免許状","高等学校教諭専修免許状","中学校教諭一種免許状","中学校教諭二種免許状","中学校教諭専修免許状"]
[51,"教員免許2","２つ目の教員免許状の教科を選んでください。",null,"選択",null,"未入力",{"$f":"IF(教員入力T[[#This Row],[入力方法]]=\"選択\",\"←選択ボタン\",\"\")","v":"←選択ボタン"},"選択",null,"外国語（英語）","国語","理科","数学","社会","地理歴史","公民","音楽","美術","保健体育","技術","家庭","情報","書道"]
[52,"教員免許2","2つ目の教員免許状の取得（または見込）年月を書いてください。","例：2024年3月取得見込み","入力",null,"未入力",{"$f":"IF(教員入力T[[#This Row],[入力方法]]=\"選択\",\"←選択ボタン\",\"\")","v":""},"入力"]
[53,"教員免許3","3つ目の教員免許状の校種と区分を選択してください。","見込み含む","選択",null,"未入力",{"$f":"IF(教員入力T[[#This Row],[入力方法]]=\"選択\",\"←選択ボタン\",\"\")","v":"←選択ボタン"},"選択",null,"高等学校教諭一種免許状","高等学校教諭専修免許状","中学校教諭一種免許状","中学校教諭二種免許状","中学校教諭専修免許状"]
[54,"教員免許3","3つ目の教員免許状の教科を選んでください。",null,"選択",null,"未入力",{"$f":"IF(教員入力T[[#This Row],[入力方法]]=\"選択\",\"←選択ボタン\",\"\")","v":"←選択ボタン"},"選択",null,"外国語（英語）","国語","理科","数学","社会","地理歴史","公民","音楽","美術","保健体育","技術","家庭","情報","書道"]
[55,"教員免許3","3つ目の教員免許状の取得（または見込）年月を書いてください。","例：2024年3月取得見込み","入力",null,"未入力",{"$f":"IF(教員入力T[[#This Row],[入力方法]]=\"選択\",\"←選択ボタン\",\"\")","v":""},"入力"]
[56,"教員免許4","4つ目の教員免許状の校種と区分を選択してください。","見込み含む","選択",null,"未入力",{"$f":"IF(教員入力T[[#This Row],[入力方法]]=\"選択\",\"←選択ボタン\",\"\")","v":"←選択ボタン"},"選択",null,"高等学校教諭一種免許状","高等学校教諭専修免許状","中学校教諭一種免許状","中学校教諭二種免許状","中学校教諭専修免許状"]
[57,"教員免許4","4つ目の教員免許状の教科を選んでください。",null,"選択",null,"未入力",{"$f":"IF(教員入力T[[#This Row],[入力方法]]=\"選択\",\"←選択ボタン\",\"\")","v":"←選択ボタン"},"選択",null,"外国語（英語）","国語","理科","数学","社会","地理歴史","公民","音楽","美術","保健体育","技術","家庭","情報","書道"]
[58,"教員免許4","4つ目の教員免許状の取得（または見込）年月を書いてください。","例：2024年3月取得見込み","入力",null,"未入力",{"$f":"IF(教員入力T[[#This Row],[入力方法]]=\"選択\",\"←選択ボタン\",\"\")","v":""},"入力"]
[59,"教員免許5","5つ目の教員免許状の校種と区分を選択してください。","見込み含む","選択",null,"未入力",{"$f":"IF(教員入力T[[#This Row],[入力方法]]=\"選択\",\"←選択ボタン\",\"\")","v":"←選択ボタン"},"選択",null,"高等学校教諭一種免許状","高等学校教諭専修免許状","中学校教諭一種免許状","中学校教諭二種免許状","中学校教諭専修免許状"]
[60,"教員免許5","5つ目の教員免許状の教科を選んでください。",null,"選択",null,"未入力",{"$f":"IF(教員入力T[[#This Row],[入力方法]]=\"選択\",\"←選択ボタン\",\"\")","v":"←選択ボタン"},"選択",null,"外国語（英語）","国語","理科","数学","社会","地理歴史","公民","音楽","美術","保健体育","技術","家庭","情報","書道"]
[61,"教員免許5","5つ目の教員免許状の取得（または見込）年月を書いてください。","例：2024年3月取得見込み","入力",null,"未入力",{"$f":"IF(教員入力T[[#This Row],[入力方法]]=\"選択\",\"←選択ボタン\",\"\")","v":""},"入力"]
[62,"担当教科1","1つ目の授業可能な科目を選択してください。","複数ある方は得意とする順でお答えください。","選択",null,"未入力",{"$f":"IF(教員入力T[[#This Row],[入力方法]]=\"選択\",\"←選択ボタン\",\"\")","v":"←選択ボタン"},"選択","必須","英語（中高）","国語（中高）","数学（中高）","化学（高校）","物理（高校）","生物（高校）","日本史（高校）","世界史（高校）","地理（高校）","保健体育（中高）","音楽（中高）","美術（中高）","技術（中）","家庭科（中高）","情報（中高）","英語（高校のみ）","国語（高校のみ）","数学（高校のみ）","理科（高校のみ）","地歴（高校のみ）","公民（高校のみ）","英語（中学のみ）","国語（中学のみ）","数学（中学のみ）","理科（中学のみ）","社会（中学のみ）","その他"]
[63,"担当教科2","2つ目の授業可能な科目を選択してください。","複数ある方は得意とする順でお答えください。","選択",null,"未入力",{"$f":"IF(教員入力T[[#This Row],[入力方法]]=\"選択\",\"←選択ボタン\",\"\")","v":"←選択ボタン"},"選択",null,"英語（中高）","国語（中高）","数学（中高）","化学（高校）","物理（高校）","生物（高校）","日本史（高校）","世界史（高校）","地理（高校）","保健体育（中高）","音楽（中高）","美術（中高）","技術（中高）","家庭科（中高）","情報（中高）","英語（高校のみ）","国語（高校のみ）","数学（高校のみ）","理科（高校のみ）","地歴（高校のみ）","公民（高校のみ）","英語（中学のみ）","国語（中学のみ）","数学（中学のみ）","理科（中学のみ）","社会（中学のみ）","その他"]
[64,"担当教科3","3つ目の授業可能な科目を選択してください。","複数ある方は得意とする順でお答えください。","選択",null,"未入力",{"$f":"IF(教員入力T[[#This Row],[入力方法]]=\"選択\",\"←選択ボタン\",\"\")","v":"←選択ボタン"},"選択",null,"英語（中高）","国語（中高）","数学（中高）","化学（高校）","物理（高校）","生物（高校）","日本史（高校）","世界史（高校）","地理（高校）","保健体育（中高）","音楽（中高）","美術（中高）","技術（中高）","家庭科（中高）","情報（中高）","英語（高校のみ）","国語（高校のみ）","数学（高校のみ）","理科（高校のみ）","地歴（高校のみ）","公民（高校のみ）","英語（中学のみ）","国語（中学のみ）","数学（中学のみ）","理科（中学のみ）","社会（中学のみ）","その他"]
[65,"担当教科4","4つ目の授業可能な科目を選択してください。","複数ある方は得意とする順でお答えください。","選択",null,{"$f":"IF(F69=\"\",\"未入力\",\"入力済\")","v":"未入力"},{"$f":"IF(教員入力T[[#This Row],[入力方法]]=\"選択\",\"←選択ボタン\",\"\")","v":"←選択ボタン"},"選択",null,"英語（中高）","国語（中高）","数学（中高）","化学（高校）","物理（高校）","生物（高校）","日本史（高校）","世界史（高校）","地理（高校）","保健体育（中高）","音楽（中高）","美術（中高）","技術（中高）","家庭科（中高）","情報（中高）","英語（高校のみ）","国語（高校のみ）","数学（高校のみ）","理科（高校のみ）","地歴（高校のみ）","公民（高校のみ）","英語（中学のみ）","国語（中学のみ）","数学（中学のみ）","理科（中学のみ）","社会（中学のみ）","その他"]
[66,"担当教科5","5つ目の授業可能な教科を選択してください。","複数ある方は得意とする順でお答えください。",{"$f":"I70","v":"選択"},null,"未入力",{"$f":"IF(教員入力T[[#This Row],[入力方法]]=\"選択\",\"←選択ボタン\",\"\")","v":"←選択ボタン"},"選択",null,"英語（中高）","国語（中高）","数学（中高）","化学（高校）","物理（高校）","生物（高校）","日本史（高校）","世界史（高校）","地理（高校）","保健体育（中高）","音楽（中高）","美術（中高）","技術（中高）","家庭科（中高）","情報（中高）","英語（高校のみ）","国語（高校のみ）","数学（高校のみ）","理科（高校のみ）","地歴（高校のみ）","公民（高校のみ）","英語（中学のみ）","国語（中学のみ）","数学（中学のみ）","理科（中学のみ）","社会（中学のみ）","その他"]
[67,"その他資格","教員免許以外の資格についてご入力ください。また上記の教員免許の選択肢にない教員免許もこちらにお書きください。","例) 英検１級　小学校教諭免許","入力",null,"未入力",{"$f":"IF(教員入力T[[#This Row],[入力方法]]=\"選択\",\"←選択ボタン\",\"\")","v":""},"入力"]
[68,"部活動1","1つ目の指導可能な部活動を選択してください。","複数ある方は得意とする順でお答えください。","選択",null,null,{"$f":"IF(教員入力T[[#This Row],[入力方法]]=\"選択\",\"←選択ボタン\",\"\")","v":"←選択ボタン"},"選択",null,"運動部全般","文化部全般","陸上","ソフトボール","ハンドボール","弓道","アーチェリー","ソフトテニス","硬式テニス","剣道","空手道","卓球","ダンス","バスケットボール","チアリーディング","バドミントン","水泳","硬式野球","サッカー","軟式野球","文芸","ESS","コンピュータ","将棋","鉄道研究","茶道","華道","筝曲","競技かるた","管弦楽","吹奏楽","弦楽","合唱","ギター","ハンドベル","軽音楽","美術","書道","料理","放送","演劇"]
[{"$f":"ROW()-4","v":69},"部活動2","2つ目の指導可能な部活動を選択してください。",null,"選択",null,null,{"$f":"IF(教員入力T[[#This Row],[入力方法]]=\"選択\",\"←選択ボタン\",\"\")","v":"←選択ボタン"},"選択",null,"運動部全般","文化部全般","陸上","ソフトボール","ハンドボール","弓道","アーチェリー","ソフトテニス","硬式テニス","剣道","空手道","卓球","ダンス","バスケットボール","チアリーディング","バドミントン","水泳","硬式野球","サッカー","軟式野球","文芸","ESS","コンピュータ","将棋","鉄道研究","茶道","華道","筝曲","競技かるた","管弦楽","吹奏楽","弦楽","合唱","ギター","ハンドベル","軽音楽","美術","書道","料理","放送","演劇"]
[70,"部活動3","3つ目の指導可能な部活動を選択してください。",null,"選択",null,null,{"$f":"IF(教員入力T[[#This Row],[入力方法]]=\"選択\",\"←選択ボタン\",\"\")","v":"←選択ボタン"},"選択",null,"運動部全般","文化部全般","陸上","ソフトボール","ハンドボール","弓道","アーチェリー","ソフトテニス","硬式テニス","剣道","空手道","卓球","ダンス","バスケットボール","チアリーディング","バドミントン","水泳","硬式野球","サッカー","軟式野球","文芸","ESS","コンピュータ","将棋","鉄道研究","茶道","華道","筝曲","競技かるた","管弦楽","吹奏楽","弦楽","合唱","ギター","ハンドベル","軽音楽","美術","書道","料理","放送","演劇"]
[71,"自己PR","ご自身のPRや本校の勤務を希望する理由についてお書きください。\nまた、大学や大学院での研究テーマなどについてもお書きください。","例：履歴書のプレビューを見ながら、途中で改行を入れたい場合は、「Alt＋Enter」をご使用ください。\n使用例\n１\n２","入力",null,null,{"$f":"IF(教員入力T[[#This Row],[入力方法]]=\"選択\",\"←選択ボタン\",\"\")","v":""},"入力","必須"]
[72,"自由欄","その他質問や要望があればお書きください。",null,"入力",null,null,{"$f":"IF(教員入力T[[#This Row],[入力方法]]=\"選択\",\"←選択ボタン\",\"\")","v":""},"入力","必須"]
[73,"最後に","今回の登録のきっかけを選択してください。",null,"選択",null,null,{"$f":"IF(教員入力T[[#This Row],[入力方法]]=\"選択\",\"←選択ボタン\",\"\")","v":"←選択ボタン"},"選択","必須","教員.JP","私学連合登録","公立講師登録","キャリタス","本校HP","大学様より","その他"]

{"sheet":"プレビュー&写真挿入","index":1,"n_rows":48,"n_cols":21,"rows_kept":48,"cut":false,"hidden":false,"merged":[[29,1,30,4],[47,1,48,4],[45,1,46,4],[43,1,44,4],[41,1,42,4],[39,1,40,4],[37,1,38,4],[35,1,36,4],[33,1,34,4],[31,1,32,4],[47,5,48,8],[41,5,42,8],[41,11,42,20],[43,5,44,8],[43,11,48,20],[45,5,46,8],[39,5,40,8],[28,11,29,20],[29,5,30,8],[30,11,39,20],[31,5,32,8],[37,5,38,8],[33,5,34,8],[35,5,36,8],[23,19,24,19],[23,20,24,20],[25,5,26,8],[25,11,26,12],[25,13,26,13],[25,14,26,14],[25,15,26,15],[25,17,26,18],[25,19,26,19],[25,20,26,20],[23,11,24,12],[23,13,24,13],[23,14,24,14],[23,15,24,15],[23,17,24,18],[17,11,17,20],[18,11,21,20],[19,5,20,8],[21,5,22,8],[12,16,13,17],[12,19,13,19],[12,20,13,20],[14,14,15,15],[14,16,15,17],[14,20,15,20],[14,11,15,13],[12,11,13,13],[12,14,13,15],[8,14,9,15],[8,16,9,17],[8,19,9,19],[7,4,8,4],[7,5,8,5],[7,6,8,6],[7,7,8,7],[6,11,7,13],[5,2,6,7],[4,11,4,17],[4,19,5,19],[4,20,5,20],[5,1,6,1],[5,11,5,13],[5,14,5,15],[5,16,5,17],[6,14,7,15],[6,16,7,17],[6,19,7,19],[6,20,7,20],[4,2,4,7],[7,1,8,1],[7,2,8,3],[8,20,9,20],[9,1,11,1],[9,3,9,7],[10,2,11,7],[10,14,11,15],[10,16,11,17],[10,19,11,19],[10,20,11,20],[10,11,11,13],[8,11,9,13],[15,1,16,4],[15,5,16,8],[17,5,18,8],[23,5,24,8],[27,5,28,8],[1,1,2,3],[1,5,1,6],[2,5,2,6],[12,1,13,1],[12,2,13,3],[12,4,13,4],[12,5,13,7],[27,1,28,4],[25,1,26,4],[23,1,24,4],[21,1,22,4],[19,1,20,4],[17,1,18,4]]}
[]
[null,"履　歴　書",null,null,null,"登録区分",null,"記述日"]
[null,null,null,null,null,{"$f":"IF(データ入力!F6=\"\",\"必須項目です\",データ入力!F6)","v":"必須項目です"},null,{"$f":"TODAY()","v":"2023-08-02"}]
[]
[null,"ふりがな",{"$f":"IF(データ入力!F11=\"\",\"必須項目です\",データ入力!F11)","v":"必須項目です"},null,null,null,null,null,null,null,null,"教員免許状",null,null,null,null,null,null,null,"担当可能な\n科目","担当可能な\n部活動"]
[null," 氏名　",{"$f":"IF(データ入力!F10=\"\",\"必須項目です\",データ入力!F10)","v":"必須項目です"},null,null,null,null,null,null,null,null,"取得年月",null,null,"種類",null,"教科"]
[null,null,null,null,null,null,null,null,null,null,null,{"$f":"IF(データ入力!F53=\"\",\"必須項目です\",データ入力!F53)","v":"必須項目です"},null,null,{"$f":"IF(データ入力!F51=\"\",\"必須項目です\",データ入力!F51)","v":"必須項目です"},null,{"$f":"IF(データ入力!F52=\"\",\"必須項目です\",データ入力!F52)","v":"必須項目です"},null,null,{"$f":"IF(データ入力!F66=\"\",\"必須項目です\",データ入力!F66)","v":"必須項目です"},{"$f":"IF(データ入力!F72=\"\",\"必須項目です\",データ入力!F72)","v":"必須項目です"}]
[null,"生年月日",{"$f":"IF(データ入力!F12=\"\",\"必須項目です\",データ入力!F12)","v":"必須項目です"},null,"年齢",{"$f":"IF(OR(ISBLANK(H3), ISBLANK(C8)), \"\", DATEDIF($C$8,$H$3,\"y\")&\" 歳\")","v":{"$error":"#VALUE!"}},"性別",{"$f":"IF(データ入力!F13=\"\",\"必須項目です\",データ入力!F13)","v":"必須項目です"}]
[null,null,null,null,null,null,null,null,null,null,null,{"$f":"データ入力!F56&\"\"","v":""},null,null,{"$f":"データ入力!F54&\"\"","v":""},null,{"$f":"データ入力!F55&\"\"","v":""},null,null,{"$f":"データ入力!F67&\"\"","v":""},{"$f":"データ入力!F73&\"\"","v":""}]
[null," 現住所","〒",{"$f":"IF(データ入力!F14=\"\",\"必須項目です\",データ入力!F14)","v":"必須項目です"}]
[null,null,{"$f":"IF(データ入力!F15=\"\",\"必須項目です\",データ入力!F15)","v":"必須項目です"},null,null,null,null,null,null,null,null,{"$f":"データ入力!F59&\"\"","v":""},null,null,{"$f":"データ入力!F57&\"\"","v":""},null,{"$f":"データ入力!F58&\"\"","v":""},null,null,{"$f":"データ入力!F68&\"\"","v":""},{"$f":"データ入力!F74&\"\"","v":""}]
[]
[null,"電話",{"$f":"IF(データ入力!F16=\"\",\"必須項目です\",データ入力!F16)","v":"必須項目です"},null,"mail",{"$f":"IF(データ入力!F17=\"\",\"必須項目です\",データ入力!F17)","v":"必須項目です"},null,null,null,null,null,{"$f":"データ入力!F62&\"\"","v":""},null,null,{"$f":"データ入力!F60&\"\"","v":""},null,{"$f":"データ入力!F61&\"\"","v":""},null,null,{"$f":"データ入力!F69&\"\"","v":""}]
[]
[null,null,null,null,null,null,null,null,null,null,null,{"$f":"データ入力!F65&\"\"","v":""},null,null,{"$f":"データ入力!F63&\"\"","v":""},null,{"$f":"データ入力!F64&\"\"","v":""},null,null,{"$f":"データ入力!F70&\"\"","v":""}]
[null,"在学期間（入学年月～卒業年月）",null,null,null,"学　歴"]
[]
[null,{"$f":"IF(データ入力!F22=\"\",\"必須項目です\",データ入力!F22)","v":"必須項目です"},null,null,null,{"$f":"IF(データ入力!F21=\"\",\"必須項目です\",データ入力!F21)","v":"必須項目です"},null,null,null,null,null,"教員免許以外の資格"]
[null,null,null,null,null,null,null,null,null,null,null,{"$f":"データ入力!F71&\"\"","v":""}]
[null,{"$f":"IF(データ入力!F24=\"\",\"必須項目です\",データ入力!F24)","v":"必須項目です"},null,null,null,{"$f":"IF(データ入力!F23=\"\",\"必須項目です\",データ入力!F23)","v":"必須項目です"}]
[]
[null,{"$f":"データ入力!F26&\"\"","v":""},null,null,null,{"$f":"データ入力!F25&\"\"","v":""}]
[]
[null,{"$f":"データ入力!F28&\"\"","v":""},null,null,null,{"$f":"データ入力!F27&\"\"","v":""},null,null,null,null,null,"勤務開始\n希望時期",null,"勤務先\nの希望","希望職種","登録きっかけ",null,"配偶者",null,"配偶者の\n扶養義務","扶養人数\n（配偶者除く）"]
[]
[null,{"$f":"データ入力!F30&\"\"","v":""},null,null,null,{"$f":"データ入力!F29&\"\"","v":""},null,null,null,null,null,{"$f":"IF(データ入力!F7=\"\",\"必須項目です\",データ入力!F7)","v":"必須項目です"},null,{"$f":"IF(データ入力!F8=\"\",\"必須項目です\",データ入力!F8)","v":"必須項目です"},{"$f":"IF(データ入力!F9=\"\",\"必須項目です\",データ入力!F9)","v":"必須項目です"},{"$f":"IF(データ入力!F77=\"\",\"必須項目です\",データ入力!F77)","v":"必須項目です"},null,{"$f":"IF(データ入力!F18=\"\",\"必須項目です\",データ入力!F18)","v":"必須項目です"},null,{"$f":"IF(データ入力!F19=\"\",\"必須項目です\",データ入力!F19)","v":"必須項目です"},{"$f":"IF(データ入力!F20=\"\",\"必須項目です\",データ入力!F20)","v":"必須項目です"}]
[]
[null,"在職期間（入職年月～退職年月）",null,null,null,"職　歴"]
[null,null,null,null,null,null,null,null,null,null,null,"自己PR"]
[null,{"$f":"データ入力!F32&\"\"","v":""},null,null,null,{"$f":"データ入力!F31&\"\"","v":""}]
[null,null,null,null,null,null,null,null,null,null,null,{"$f":"IF(データ入力!F75=\"\",\"必須項目です\",データ入力!F75)","v":"必須項目です"}]
[null,{"$f":"データ入力!F34&\"\"","v":""},null,null,null,{"$f":"データ入力!F33&\"\"","v":""}]
[]
[null,{"$f":"データ入力!F36&\"\"","v":""},null,null,null,{"$f":"データ入力!F35&\"\"","v":""}]
[]
[null,{"$f":"データ入力!F38&\"\"","v":""},null,null,null,{"$f":"データ入力!F37&\"\"","v":""}]
[]
[null,{"$f":"データ入力!F40&\"\"","v":""},null,null,null,{"$f":"データ入力!F39&\"\"","v":""}]
[]
[null,{"$f":"データ入力!F42&\"\"","v":""},null,null,null,{"$f":"データ入力!F41&\"\"","v":""}]
[]
[null,{"$f":"データ入力!F44&\"\"","v":""},null,null,null,{"$f":"データ入力!F43&\"\"","v":""},null,null,null,null,null,"自由欄"]
[]
[null,{"$f":"データ入力!F46&\"\"","v":""},null,null,null,{"$f":"データ入力!F45&\"\"","v":""},null,null,null,null,null,{"$f":"データ入力!F76&\"\"","v":""}]
[]
[null,{"$f":"データ入力!F48&\"\"","v":""},null,null,null,{"$f":"データ入力!F47&\"\"","v":""}]
[]
[null,{"$f":"データ入力!F50&\"\"","v":""},null,null,null,{"$f":"データ入力!F49&\"\"","v":""}]